BEGIN:VCALENDAR
VERSION:2.0
PRODID:-//Ontdek Midden-Groningen - ECPv5.1.4//NONSGML v1.0//EN
CALSCALE:GREGORIAN
METHOD:PUBLISH
X-WR-CALNAME:Ontdek Midden-Groningen
X-ORIGINAL-URL:https://archief.ontdekmiddengroningen.nl
X-WR-CALDESC:Evenementen voor Ontdek Midden-Groningen
BEGIN:VTIMEZONE
TZID:Europe/Paris
BEGIN:DAYLIGHT
TZOFFSETFROM:+0100
TZOFFSETTO:+0200
TZNAME:CEST
DTSTART:20240331T010000
END:DAYLIGHT
BEGIN:STANDARD
TZOFFSETFROM:+0200
TZOFFSETTO:+0100
TZNAME:CET
DTSTART:20241027T010000
END:STANDARD
END:VTIMEZONE
BEGIN:VEVENT
DTSTART;TZID=Europe/Paris:20240623T140000
DTEND;TZID=Europe/Paris:20240623T170000
DTSTAMP:20260424T175451
CREATED:20240318T131759Z
LAST-MODIFIED:20240318T131759Z
UID:51402-1719151200-1719162000@archief.ontdekmiddengroningen.nl
SUMMARY:Wandeling van borg naar kerk van Slochteren
DESCRIPTION:Foto: Stella Dekker\nOp zondag 23 juni 2024 kun je mee wandelen van de Fraeylemaborg naar de Hervormde Kerk in Slochteren. Onder leiding van een gids loop je vanaf het voorterrein van de Fraeylemaborg naar de eeuwenoude kerk met zijn karakteristieke vrijstaande toren. De route voert door het dorplint van Slochteren en onderweg is er aandacht voor de historische relatie tussen de borg en de kerk. \nDe historische verbondenheid tussen de Hervormde kerk met de Fraeylemaborg en zijn voormalige bewoners is groot. Dit spreekt onder meer uit de rouwborden van Henric Piccardt en Anna Rengers die een wand van de kerk sieren. In en rondom de kerk krijg je uitleg over deze verbondenheid. \nDetails\n\nDe start van de wandeling is om 14.00 uur bij de Museumwinkel in het Koetshuis van de borg.\nKosten € 3\,00 per persoon\nReserveren is gewenst (0598-421568)\n\nKijk voor meer informatie op Fraeylemaborg. \n  \n
URL:https://archief.ontdekmiddengroningen.nl/event/wandeling-van-borg-naar-kerk-van-slochteren/
LOCATION:Fraeylemaborg\, Hoofdweg 30\, Slochteren\, 9621 AL
CATEGORIES:Actief,Cultuur,Natuur
ATTACH;FMTTYPE=image/jpeg:https://archief.ontdekmiddengroningen.nl/wp-content/uploads/2024/03/Wandeling-van-borg-naar-kerk-van-Slochteren-Fraeylemaborg.jpg
GEO:53.2154486;6.8095721
X-APPLE-STRUCTURED-LOCATION;VALUE=URI;X-ADDRESS=Fraeylemaborg Hoofdweg 30 Slochteren 9621 AL;X-APPLE-RADIUS=500;X-TITLE=Hoofdweg 30:geo:6.8095721,53.2154486
END:VEVENT
END:VCALENDAR