BEGIN:VCALENDAR
VERSION:2.0
PRODID:-//Ontdek Midden-Groningen - ECPv5.1.4//NONSGML v1.0//EN
CALSCALE:GREGORIAN
METHOD:PUBLISH
X-WR-CALNAME:Ontdek Midden-Groningen
X-ORIGINAL-URL:https://archief.ontdekmiddengroningen.nl
X-WR-CALDESC:Evenementen voor Ontdek Midden-Groningen
BEGIN:VTIMEZONE
TZID:Europe/Paris
BEGIN:DAYLIGHT
TZOFFSETFROM:+0100
TZOFFSETTO:+0200
TZNAME:CEST
DTSTART:20230326T010000
END:DAYLIGHT
BEGIN:STANDARD
TZOFFSETFROM:+0200
TZOFFSETTO:+0100
TZNAME:CET
DTSTART:20231029T010000
END:STANDARD
END:VTIMEZONE
BEGIN:VEVENT
DTSTART;TZID=Europe/Paris:20231229T200000
DTEND;TZID=Europe/Paris:20231229T223000
DTSTAMP:20260425T010951
CREATED:20230720T105926Z
LAST-MODIFIED:20230720T105926Z
UID:48871-1703880000-1703889000@archief.ontdekmiddengroningen.nl
SUMMARY:Orgelconcert 'Tussen de jaren'
DESCRIPTION:In de kersttijd worden in de kerk van Noordbroek twee bijzondere concerten gegeven. Naast het traditionele Nieuwjaarsconcert op 1 januari is er op 29 december het concert ‘Tussen de jaren’. \nTot de invoering van de tijdskalender van paus Gregorius XIII in 1582 werd daarmee de ‘lege’ tijd tussen het eind van het oude jaar (24 december) en het begin van het nieuwe jaar op 6 januari aangeduid. \nIn Duitsland is met ‘zwischen den Jahren‘ de associatie gebleven met een tijd van bezinning op dat wat werkelijk belangrijk is – ook een tijd om opnieuw vertrouwen te putten en met nieuwe moed door te gaan. Heimwee en verlangen\, voltooiing en hoop zijn daarbij kernbegrippen\, die voor velen juist in de laatste dagen van het jaren een bijzondere betekenis krijgen. \nDit concert in de bijzondere kerk van Noordbroek met haar onvolprezen Schnitgerorgel biedt gelegenheid om dat bijzondere gevoel met oude muziek nog intensiever te beleven. Terug naar de essentie met wat muziek vermag\, maar ook waar het een zeker gebrek aan zitcomfort en aangename temperaturen betreft. Wie dat op de koop toeneemt\, wordt rijk beloond. \nEntree: € 12\,50. Kijk voor meer informatie op Kruiskerk Noordbroek. \n  \n
URL:https://archief.ontdekmiddengroningen.nl/event/orgelconcert-tussen-de-jaren/
LOCATION:Kruiskerk Noordbroek\, Noordersingel 1\, Noordbroek\, 9635 AV
CATEGORIES:Cultuur
ATTACH;FMTTYPE=image/jpeg:https://archief.ontdekmiddengroningen.nl/wp-content/uploads/2023/02/Kruiskerk-Noordbroek-foto-Stella-Dekker.jpg
GEO:53.2022135;6.8726493
X-APPLE-STRUCTURED-LOCATION;VALUE=URI;X-ADDRESS=Kruiskerk Noordbroek Noordersingel 1 Noordbroek 9635 AV;X-APPLE-RADIUS=500;X-TITLE=Noordersingel 1:geo:6.8726493,53.2022135
END:VEVENT
END:VCALENDAR