BEGIN:VCALENDAR
VERSION:2.0
PRODID:-//Ontdek Midden-Groningen - ECPv5.1.4//NONSGML v1.0//EN
CALSCALE:GREGORIAN
METHOD:PUBLISH
X-WR-CALNAME:Ontdek Midden-Groningen
X-ORIGINAL-URL:https://archief.ontdekmiddengroningen.nl
X-WR-CALDESC:Evenementen voor Ontdek Midden-Groningen
BEGIN:VTIMEZONE
TZID:Europe/Paris
BEGIN:DAYLIGHT
TZOFFSETFROM:+0100
TZOFFSETTO:+0200
TZNAME:CEST
DTSTART:20240331T010000
END:DAYLIGHT
BEGIN:STANDARD
TZOFFSETFROM:+0200
TZOFFSETTO:+0100
TZNAME:CET
DTSTART:20241027T010000
END:STANDARD
END:VTIMEZONE
BEGIN:VEVENT
DTSTART;TZID=Europe/Paris:20240101T153000
DTEND;TZID=Europe/Paris:20240101T173000
DTSTAMP:20260424T202547
CREATED:20230720T110307Z
LAST-MODIFIED:20230720T110307Z
UID:48873-1704123000-1704130200@archief.ontdekmiddengroningen.nl
SUMMARY:Nieuwjaarsconcert
DESCRIPTION:Voor de 19e keer vindt het traditionele Nieuwjaarsconcert in Noordbroek plaats. Er staat weer een prachtig Bachprogramma klaar en ook de organist is als vanouds Peter Westerbrink. \nEntree: € 12\,50. Het kan koud zijn in de kerk\, dus denk om warme kleding. \nKijk voor meer informatie op Kerk Noordbroek. \n  \n
URL:https://archief.ontdekmiddengroningen.nl/event/nieuwjaarsconcert/
LOCATION:Kruiskerk Noordbroek\, Noordersingel 1\, Noordbroek\, 9635 AV
CATEGORIES:Cultuur
ATTACH;FMTTYPE=image/jpeg:https://archief.ontdekmiddengroningen.nl/wp-content/uploads/2023/02/Kruiskerk-Noordbroek-foto-Stella-Dekker.jpg
GEO:53.2022135;6.8726493
X-APPLE-STRUCTURED-LOCATION;VALUE=URI;X-ADDRESS=Kruiskerk Noordbroek Noordersingel 1 Noordbroek 9635 AV;X-APPLE-RADIUS=500;X-TITLE=Noordersingel 1:geo:6.8726493,53.2022135
END:VEVENT
END:VCALENDAR