BEGIN:VCALENDAR
VERSION:2.0
PRODID:-//Ontdek Midden-Groningen - ECPv5.1.4//NONSGML v1.0//EN
CALSCALE:GREGORIAN
METHOD:PUBLISH
X-WR-CALNAME:Ontdek Midden-Groningen
X-ORIGINAL-URL:https://archief.ontdekmiddengroningen.nl
X-WR-CALDESC:Evenementen voor Ontdek Midden-Groningen
BEGIN:VTIMEZONE
TZID:Europe/Paris
BEGIN:DAYLIGHT
TZOFFSETFROM:+0100
TZOFFSETTO:+0200
TZNAME:CEST
DTSTART:20240331T010000
END:DAYLIGHT
BEGIN:STANDARD
TZOFFSETFROM:+0200
TZOFFSETTO:+0100
TZNAME:CET
DTSTART:20241027T010000
END:STANDARD
END:VTIMEZONE
BEGIN:VEVENT
DTSTART;TZID=Europe/Paris:20240505T120000
DTEND;TZID=Europe/Paris:20240505T140000
DTSTAMP:20260421T083813
CREATED:20240423T093254Z
LAST-MODIFIED:20240423T093319Z
UID:51976-1714910400-1714917600@archief.ontdekmiddengroningen.nl
SUMMARY:Vrijheidsmaaltijd Fraeylemaborg
DESCRIPTION:Kom op zondagmiddag 5 mei naar de Fraeylemaborg in Slochteren en schuif aan voor een gratis ‘Vrijheidsmaaltijd’: een gezellige lunch\, waarbij inwoners van de gemeente Midden-Groningen elkaar ontmoeten. Of je hier nu al je leven lang woont of een nieuwkomer bent\, of je jong bent of al wat ouder: iedereen is welkom. Op het menu staan ‘Vrijheidssoep’\, broodjes en meer lekkers. Maar er zijn ook optredens en kinderactiviteiten. Deelnemers aan de Vrijheidsmaaltijd hebben bovendien de hele middag gratis toegang tot de borg. \nOver de Vrijheidsmaaltijden\nIn heel het land worden op 5 mei Vrijheidsmaaltijden georganiseerd op initiatief van het Nationaal Comité 4 en 5 mei. De Vrijheidsmaaltijd is een bijzondere ontmoeting aan de eettafel\, waarbij de gasten over vrijheid en onvrijheid spreken: thema’s waar je niet dagelijks bij stilstaat en waar je bij uitstek op Bevrijdingsdag aandacht aan kan geven. De ‘Vrijheidssoep’\, die in Slochteren geserveerd wordt\, staat bij alle Vrijheidsmaaltijden in Nederland op tafel. \nSlochteren\nDe Vrijheidsmaaltijd in Slochteren wordt georganiseerd door Landgoed Fraeylemaborg in samenwerking met Lionsclub Skiramere Slochteren en de woongemeenschappen voor Oekraïense vluchtelingen in de gemeente Midden-Groningen. Het thema van de middag is ‘Hoop op vrijheid’. Want – waar Nederland 79 jaar bevrijding viert – strijdt Oekraïne nog altijd voor vrijheid. Tijdens de maaltijd zal daar aandacht voor zijn. \nLet op: Er is beperkt plek\, dus meld je aan vóór 29 april a.s. via info@fraeylemaborg.nl \nKijk voor meer informatie op Fraeylemaborg. \n
URL:https://archief.ontdekmiddengroningen.nl/event/vrijheidsmaaltijd-fraeylemaborg/
LOCATION:Fraeylemaborg\, Hoofdweg 30\, Slochteren\, 9621 AL
CATEGORIES:Culinair,Cultuur
ATTACH;FMTTYPE=image/jpeg:https://archief.ontdekmiddengroningen.nl/wp-content/uploads/2024/04/Vrijheidsmaaltijd-Fraeylemaborg.jpg
GEO:53.2154486;6.8095721
X-APPLE-STRUCTURED-LOCATION;VALUE=URI;X-ADDRESS=Fraeylemaborg Hoofdweg 30 Slochteren 9621 AL;X-APPLE-RADIUS=500;X-TITLE=Hoofdweg 30:geo:6.8095721,53.2154486
END:VEVENT
BEGIN:VEVENT
DTSTART;TZID=Europe/Paris:20240505T140000
DTEND;TZID=Europe/Paris:20240505T163000
DTSTAMP:20260421T083813
CREATED:20240422T130401Z
LAST-MODIFIED:20240422T130448Z
UID:51954-1714917600-1714926600@archief.ontdekmiddengroningen.nl
SUMMARY:Start zomerexpositie KieK!
DESCRIPTION:Op zondag 5 mei start een nieuwe tentoonstelling in de Julianakerk in Kolham. \nIn zijn Groningse landschappen vertelt Ton Stoltenkamp het verhaal van bestaande boerderijen of kerken: een schilderij is pas af\, als het verhaal dat er uit spreekt af is. Een tentoonstelling waar je blij van wordt! \nDe tentoonstelling is in mei en juni alle zondagmiddagen te bezoeken\, van 14.00 tot 16.30 uur. Kijk voor meer informatie op Zomerexpositie KieK! \n  \n
URL:https://archief.ontdekmiddengroningen.nl/event/start-zomerexpositie-kiek/
LOCATION:Julianakerk Kolham\, Hoofdweg 44\, Kolham\, 9615 AG\, Netherlands
CATEGORIES:Cultuur
ATTACH;FMTTYPE=image/jpeg:https://archief.ontdekmiddengroningen.nl/wp-content/uploads/2024/04/Zomerexpositie-KieK-1.jpg
END:VEVENT
BEGIN:VEVENT
DTSTART;TZID=Europe/Paris:20240505T170000
DTEND;TZID=Europe/Paris:20240505T210000
DTSTAMP:20260421T083813
CREATED:20240318T111101Z
LAST-MODIFIED:20240423T091335Z
UID:51326-1714928400-1714942800@archief.ontdekmiddengroningen.nl
SUMMARY:Vrijheidsmaaltijd De Woudbloem
DESCRIPTION:Foto: Wilco van der Laan\nOp 5 mei vieren mensen door het hele land de vrijheid met een maaltijd\, zo ook in Woudbloem! Jan Henk de Groot zorgt voor de muzikale omlijsting. \nEntree gratis\, reserveren verplicht. Vol is vol! \nPop-up theater en bioscoop ‘De Woudbloem’ is een unieke erfgoedlocatie in het prachtige natuurgebied ’t Roegwold\, op fietsafstand van de stad Groningen. \nKijk voor meer informatie op De Woudbloem. \n  \n
URL:https://archief.ontdekmiddengroningen.nl/event/vrijheidsmaaltijd/
LOCATION:Marine Service De Woudbloem\, Netherlands
CATEGORIES:Cultuur
ATTACH;FMTTYPE=image/jpeg:https://archief.ontdekmiddengroningen.nl/wp-content/uploads/2024/03/Jan-Henk-de-Groot-.jpg
ORGANIZER;CN="Hoop%20voor%20Hoog%20Hammen":MAILTO:hoopvoorhooghammen@gmail.com
END:VEVENT
END:VCALENDAR