BEGIN:VCALENDAR
VERSION:2.0
PRODID:-//Ontdek Midden-Groningen - ECPv5.1.4//NONSGML v1.0//EN
CALSCALE:GREGORIAN
METHOD:PUBLISH
X-WR-CALNAME:Ontdek Midden-Groningen
X-ORIGINAL-URL:https://archief.ontdekmiddengroningen.nl
X-WR-CALDESC:Evenementen voor Ontdek Midden-Groningen
BEGIN:VTIMEZONE
TZID:Europe/Paris
BEGIN:DAYLIGHT
TZOFFSETFROM:+0100
TZOFFSETTO:+0200
TZNAME:CEST
DTSTART:20240331T010000
END:DAYLIGHT
BEGIN:STANDARD
TZOFFSETFROM:+0200
TZOFFSETTO:+0100
TZNAME:CET
DTSTART:20241027T010000
END:STANDARD
END:VTIMEZONE
BEGIN:VEVENT
DTSTART;TZID=Europe/Paris:20240511T110000
DTEND;TZID=Europe/Paris:20240511T140000
DTSTAMP:20260421T183524
CREATED:20240318T113043Z
LAST-MODIFIED:20240429T132012Z
UID:51341-1715425200-1715436000@archief.ontdekmiddengroningen.nl
SUMMARY:Keep Them Rolling
DESCRIPTION:De Woudbloem – foto Wilco van der Laan\nHistorische legervoertuigen brengen een bezoek aan de Woudbloem. Een groot aantal daarvan hebben meegedaan tijdens de bevrijding in 1945 van de regio die nu Midden-Groningen heet. Alle legervoertuigen zijn rijvaardig. Je kunt ze bezichtigen en er is deskundige uitleg. In ‘De Woudbloem’ is daarnaast  de expositie Oorlog en bevrijding 1940-1945 voormalige gemeente Slochteren. \nPop-up theater en bioscoop ‘De Woudbloem’ is een unieke erfgoedlocatie in het prachtige natuurgebied ’t Roegwold\, op fietsafstand van de stad Groningen. Kijk voor meer informatie op De Woudbloem. \n  \n
URL:https://archief.ontdekmiddengroningen.nl/event/keep-them-rolling/
LOCATION:Marine Service De Woudbloem\, Netherlands
CATEGORIES:Cultuur
ATTACH;FMTTYPE=image/jpeg:https://archief.ontdekmiddengroningen.nl/wp-content/uploads/2024/03/De-Woudbloem-foto-Wilco-van-der-Laan.jpg
ORGANIZER;CN="Hoop%20voor%20Hoog%20Hammen":MAILTO:hoopvoorhooghammen@gmail.com
END:VEVENT
BEGIN:VEVENT
DTSTART;TZID=Europe/Paris:20240511T193000
DTEND;TZID=Europe/Paris:20240511T223000
DTSTAMP:20260421T183524
CREATED:20240320T123955Z
LAST-MODIFIED:20240320T123955Z
UID:51549-1715455800-1715466600@archief.ontdekmiddengroningen.nl
SUMMARY:Ierse avond
DESCRIPTION:Deze Ierse avond in Borgercompagnie wordt verzorgd door meerdere muzikanten uit het Noorden: Drizzle\, Mojore\, Engelharp en Janny Westervaarder\, The Three Sisters\, Jiggdolls & Limberjacks en Tunes op de harp. Ook is er een open sessie voor alle aanwezigen. \nBij mooi weer op het terras\, inclusief kampvuur! \nKijk voor meer informatie op Met Meer Cultuur. \n  \n
URL:https://archief.ontdekmiddengroningen.nl/event/ierse-avond/
LOCATION:Cultuurwerkplaats BC47\, Borgercompagnie 47\, Borgercompagnie\, 9632 TC
CATEGORIES:Cultuur
ATTACH;FMTTYPE=image/jpeg:https://archief.ontdekmiddengroningen.nl/wp-content/uploads/2024/03/Ierse-avond.jpg
GEO:53.1305364;6.8099256
X-APPLE-STRUCTURED-LOCATION;VALUE=URI;X-ADDRESS=Cultuurwerkplaats BC47 Borgercompagnie 47 Borgercompagnie 9632 TC;X-APPLE-RADIUS=500;X-TITLE=Borgercompagnie 47:geo:6.8099256,53.1305364
END:VEVENT
BEGIN:VEVENT
DTSTART;TZID=Europe/Paris:20240511T200000
DTEND;TZID=Europe/Paris:20240511T223000
DTSTAMP:20260421T183524
CREATED:20240318T112546Z
LAST-MODIFIED:20240318T112546Z
UID:51335-1715457600-1715466600@archief.ontdekmiddengroningen.nl
SUMMARY:Inundatie
DESCRIPTION:De geliefde productie van De Schildgroep\, over de onderwaterzetting van het gebied tussen Delfzijl en Harkstede in 1944 en ’45. \nTekst: Klaasje Pen. Regie: Erik Bulthuis. \nEntree: € 10 (€ 12 voor jonger dan 18 jaar). \nData:\n\n9 en 11 mei: 20.00 uur\n12 mei: 16.00 uur\n\nPop-up theater en bioscoop ‘De Woudbloem’ is een unieke erfgoedlocatie in het prachtige natuurgebied ’t Roegwold\, op fietsafstand van de stad Groningen. \nKijk voor meer informatie op De Woudbloem. \n  \n
URL:https://archief.ontdekmiddengroningen.nl/event/inundatie-2/
LOCATION:Marine Service De Woudbloem\, Netherlands
CATEGORIES:Cultuur
ATTACH;FMTTYPE=image/jpeg:https://archief.ontdekmiddengroningen.nl/wp-content/uploads/2024/03/Inundatie.jpg
ORGANIZER;CN="Hoop%20voor%20Hoog%20Hammen":MAILTO:hoopvoorhooghammen@gmail.com
END:VEVENT
END:VCALENDAR