BEGIN:VCALENDAR
VERSION:2.0
PRODID:-//Ontdek Midden-Groningen - ECPv5.1.4//NONSGML v1.0//EN
CALSCALE:GREGORIAN
METHOD:PUBLISH
X-WR-CALNAME:Ontdek Midden-Groningen
X-ORIGINAL-URL:https://archief.ontdekmiddengroningen.nl
X-WR-CALDESC:Evenementen voor Ontdek Midden-Groningen
BEGIN:VTIMEZONE
TZID:Europe/Paris
BEGIN:DAYLIGHT
TZOFFSETFROM:+0100
TZOFFSETTO:+0200
TZNAME:CEST
DTSTART:20240331T010000
END:DAYLIGHT
BEGIN:STANDARD
TZOFFSETFROM:+0200
TZOFFSETTO:+0100
TZNAME:CET
DTSTART:20241027T010000
END:STANDARD
END:VTIMEZONE
BEGIN:VEVENT
DTSTART;TZID=Europe/Paris:20240518T200000
DTEND;TZID=Europe/Paris:20240518T223000
DTSTAMP:20260422T060053
CREATED:20240318T114014Z
LAST-MODIFIED:20240318T114014Z
UID:51349-1716062400-1716071400@archief.ontdekmiddengroningen.nl
SUMMARY:All that jazz
DESCRIPTION:De Woudbloem – foto Wilco van der Laan\nDe bevrijders brachten niet alleen cola en chocola\, maar ook jazz met zich mee. Met toetsenist Joe Dinkelbach\, zanger-gitarist Knut Richter en bassist Tim Nobel. \nEntree: € 10 (€ voor jonger dan 18 jaar). \nPop-up theater en bioscoop ‘De Woudbloem’ is een unieke erfgoedlocatie in het prachtige natuurgebied ’t Roegwold\, op fietsafstand van de stad Groningen. \nKijk voor meer informatie op De Woudbloem. \n  \n
URL:https://archief.ontdekmiddengroningen.nl/event/all-that-jazz/
LOCATION:Marine Service De Woudbloem\, Netherlands
CATEGORIES:Cultuur
ATTACH;FMTTYPE=image/jpeg:https://archief.ontdekmiddengroningen.nl/wp-content/uploads/2024/03/De-Woudbloem-foto-Wilco-van-der-Laan.jpg
ORGANIZER;CN="Hoop%20voor%20Hoog%20Hammen":MAILTO:hoopvoorhooghammen@gmail.com
END:VEVENT
END:VCALENDAR