BEGIN:VCALENDAR
VERSION:2.0
PRODID:-//Ontdek Midden-Groningen - ECPv5.1.4//NONSGML v1.0//EN
CALSCALE:GREGORIAN
METHOD:PUBLISH
X-WR-CALNAME:Ontdek Midden-Groningen
X-ORIGINAL-URL:https://archief.ontdekmiddengroningen.nl
X-WR-CALDESC:Evenementen voor Ontdek Midden-Groningen
BEGIN:VTIMEZONE
TZID:Europe/Paris
BEGIN:DAYLIGHT
TZOFFSETFROM:+0100
TZOFFSETTO:+0200
TZNAME:CEST
DTSTART:20240331T010000
END:DAYLIGHT
BEGIN:STANDARD
TZOFFSETFROM:+0200
TZOFFSETTO:+0100
TZNAME:CET
DTSTART:20241027T010000
END:STANDARD
END:VTIMEZONE
BEGIN:VEVENT
DTSTART;TZID=Europe/Paris:20240116T193000
DTEND;TZID=Europe/Paris:20240116T220000
DTSTAMP:20260421T005241
CREATED:20240111T111437Z
LAST-MODIFIED:20240111T142110Z
UID:50907-1705433400-1705442400@archief.ontdekmiddengroningen.nl
SUMMARY:Lezing Ben Westerink - Groningse Wierdenlandschap
DESCRIPTION:Foto: Wilco van der Laan\nHoud je van tuinieren\, natuur en duurzaamheid? Bezoek dan eens een lezing van Groei & Bloei Midden-Groningen. \nVandaag vertelt Ben Westerink je alles over het Groningse Wierdenlandschap. De wierden vormen de hoogtepunten van een oude cultuurlandschap\, dat op nog veel plaatsen herkenbaar is. Wierden zijn woonheuvels die in onbedijkte tijden werden opgeworpen om de bewoners langs de stormvloed te beschermen. De kuststrook van Groningen ligt er nog altijd mee bezaaid. \nWierden zijn er in allerlei afmetingen en verschijningsvormen: van grote dorpswierden omgeven door nieuwbouw tot bescheiden verlaten huiswierden\, die alleen bij een lichte nevel goed zichtbaar zijn. Al meer dan twintig eeuwen worden de wierden omringd door een netwerk van oude wegen\, waterlopen en dijken. \nBen Westerink (Enschede\, 1946) woont op de wierde Adorp. Hij bestudeert in zijn vrije tijd het kleilandschap van Groningen. De samenhang tussen bodem\, cultuurhistorie en biodiversiteit heeft zijn specifieke interesse. \nKijk voor meer informatie op Groei & Bloei Midden-Groningen. \n  \n
URL:https://archief.ontdekmiddengroningen.nl/event/lezing-ben-westerink-groningse-wierdenlandschap/
LOCATION:Brandpunt\, Noorderstraat 27\, Sappemeer\, 9611 AA\, Nederland
CATEGORIES:Cultuur,Natuur
ATTACH;FMTTYPE=image/jpeg:https://archief.ontdekmiddengroningen.nl/wp-content/uploads/2024/01/Groninger-Wierdenlandschap-foto-Wilco-van-der-Laan-verkleind.jpg
GEO:53.1644668;6.7781418
X-APPLE-STRUCTURED-LOCATION;VALUE=URI;X-ADDRESS=Brandpunt Noorderstraat 27 Sappemeer 9611 AA Nederland;X-APPLE-RADIUS=500;X-TITLE=Noorderstraat 27:geo:6.7781418,53.1644668
END:VEVENT
END:VCALENDAR