BEGIN:VCALENDAR
VERSION:2.0
PRODID:-//Ontdek Midden-Groningen - ECPv5.1.4//NONSGML v1.0//EN
CALSCALE:GREGORIAN
METHOD:PUBLISH
X-WR-CALNAME:Ontdek Midden-Groningen
X-ORIGINAL-URL:https://archief.ontdekmiddengroningen.nl
X-WR-CALDESC:Evenementen voor Ontdek Midden-Groningen
BEGIN:VTIMEZONE
TZID:Europe/Paris
BEGIN:DAYLIGHT
TZOFFSETFROM:+0100
TZOFFSETTO:+0200
TZNAME:CEST
DTSTART:20240331T010000
END:DAYLIGHT
BEGIN:STANDARD
TZOFFSETFROM:+0200
TZOFFSETTO:+0100
TZNAME:CET
DTSTART:20241027T010000
END:STANDARD
END:VTIMEZONE
BEGIN:VEVENT
DTSTART;TZID=Europe/Paris:20240218T133000
DTEND;TZID=Europe/Paris:20240218T150000
DTSTAMP:20260425T164329
CREATED:20240212T152117Z
LAST-MODIFIED:20240212T152117Z
UID:51184-1708263000-1708268400@archief.ontdekmiddengroningen.nl
SUMMARY:Wandelrondje Leinwijk
DESCRIPTION:Een korte\, maar fijne wandeling voor deze tijd van het jaar. Langs de nieuw ingerichte rietoevers van het Zuidlaardermeer kom je bij de uitkijkpost\, waar je het gebied van Leinwijk en Wolfsbarge kunt overzien. \nDetails\n\nLengte van de wandeling is drie kilometer.\nTrek stevige schoenen en wind- en waterdichte kleding aan.\nAanmelden kan via Groninger Landschap\, deelname is gratis.\n\n  \n
URL:https://archief.ontdekmiddengroningen.nl/event/wandelrondje-leinwijk/
LOCATION:Paviljoen de Leine\, Meerweg 62\, Kropswolde\, 9606 PP\, Nederland
CATEGORIES:Natuur
ATTACH;FMTTYPE=image/jpeg:https://archief.ontdekmiddengroningen.nl/wp-content/uploads/2018/12/Kropswolderbuitenpolder-in-de-zomer-Het-Groninger-Landschap.jpg
GEO:53.1385627;6.7120905
X-APPLE-STRUCTURED-LOCATION;VALUE=URI;X-ADDRESS=Paviljoen de Leine Meerweg 62 Kropswolde 9606 PP Nederland;X-APPLE-RADIUS=500;X-TITLE=Meerweg 62:geo:6.7120905,53.1385627
END:VEVENT
END:VCALENDAR